BEGIN:VCALENDAR
VERSION:2.0
PRODID:-//Chase and District Fish and Game Club - ECPv6.15.14//NONSGML v1.0//EN
CALSCALE:GREGORIAN
METHOD:PUBLISH
X-WR-CALNAME:Chase and District Fish and Game Club
X-ORIGINAL-URL:https://cdfgc.ca
X-WR-CALDESC:Events for Chase and District Fish and Game Club
REFRESH-INTERVAL;VALUE=DURATION:PT1H
X-Robots-Tag:noindex
X-PUBLISHED-TTL:PT1H
BEGIN:VTIMEZONE
TZID:UTC
BEGIN:STANDARD
TZOFFSETFROM:+0000
TZOFFSETTO:+0000
TZNAME:UTC
DTSTART:20250101T000000
END:STANDARD
END:VTIMEZONE
BEGIN:VEVENT
DTSTART;TZID=UTC:20260425T100000
DTEND;TZID=UTC:20260425T140000
DTSTAMP:20260425T013513
CREATED:20250425T185214Z
LAST-MODIFIED:20260420T185235Z
UID:4718-1777111200-1777125600@cdfgc.ca
SUMMARY:SPRING WORK BEE (geting ready for 3D shoot)
DESCRIPTION:We need members to come out and help with the Spring Work Bee. Lawns need mowing and weedwacking. Club house needs refreshing\, washing and dusting for the summer activities.  Toilets need cleaning and supplies replenished.  Horse shoe pits weeded. etc.  Bring work gloves and outdoor tools like rakes\, shovels etc to help with cleanup.  Starts at 10 am. Many hands make light work. Also if you volunteer 4 hours and attend 1 meeting a year you will get a $25 credit on your next year’s membership! Remember to sign in at the sign in shed before entering the property.
URL:https://cdfgc.ca/event/spring-work-bee-geting-ready-for-3d-shoot/
LOCATION:724 Turtle Valley Road\, British Columbia\, Canada
CATEGORIES:Archery
END:VEVENT
END:VCALENDAR