BEGIN:VCALENDAR
VERSION:2.0
PRODID:-//Chase and District Fish and Game Club - ECPv6.15.14//NONSGML v1.0//EN
CALSCALE:GREGORIAN
METHOD:PUBLISH
X-ORIGINAL-URL:https://cdfgc.ca
X-WR-CALDESC:Events for Chase and District Fish and Game Club
REFRESH-INTERVAL;VALUE=DURATION:PT1H
X-Robots-Tag:noindex
X-PUBLISHED-TTL:PT1H
BEGIN:VTIMEZONE
TZID:UTC
BEGIN:STANDARD
TZOFFSETFROM:+0000
TZOFFSETTO:+0000
TZNAME:UTC
DTSTART:20210101T000000
END:STANDARD
END:VTIMEZONE
BEGIN:VEVENT
DTSTART;VALUE=DATE:20250806
DTEND;VALUE=DATE:20250808
DTSTAMP:20260421T012026
CREATED:20250731T224145Z
LAST-MODIFIED:20250731T224156Z
UID:4415-1754438400-1754611199@cdfgc.ca
SUMMARY:Youth PAL CAMP
DESCRIPTION:There are still a few spots available. Youth PAL course and Shooting Camp\nThe Chase & District Fish & Game Club together with Leslie & Walt Koshynsky are pleased to offer a Youth PAL Course & Shooting Camp for young people from the Age of 12 to 17. This will run August 6th and 7th from 8:00 am to 3:00 pm at the Chase & District Fish and Game Club range (724 Turtle Valley Road). Students will spend the mornings taking the Canadian Firearms Course and the afternoons shooting. Emphasis will be placed on safety. Lunch will be provided however\, if you have special dietary needs\, please bring lunch. Participants are asked to bring ear protection\, eye protection and a pen. There will be a limited amount of safety equipment available but if possible\, please bring your own.\nShooting will be with certified coachess who have coached Arctic Winter Games shooters\, Canada Winter Games shooters and some Olympic shooters. A high emphasis will be placed on safety and shooting will be with close supervision. We are planning to shoot several different firearms actions so that students will be familiar with a variety of firearms.\nSpace is limited to 12 students. The first 12 students who have completed payment will be the only ones accepted.\nParents are welcome to attend as volunteers.\nContact Leslie Koshynsky at shuswappalcourses@gmail.com or 250-299-6093 to register.
URL:https://cdfgc.ca/event/youth-pal-camp/
LOCATION:724 Turtle Valley Road\, British Columbia\, Canada
CATEGORIES:Courses
ORGANIZER;CN="Leslie Koshynsky":MAILTO:shuswappalcourses@gmail.com
END:VEVENT
BEGIN:VEVENT
DTSTART;VALUE=DATE:20221112
DTEND;VALUE=DATE:20221114
DTSTAMP:20260421T012026
CREATED:20191022T040959Z
LAST-MODIFIED:20230306T201446Z
UID:1606-1668211200-1668383999@cdfgc.ca
SUMMARY:March 2023 PAL courses by Shuswap Area Firearms Education
DESCRIPTION:Next Pal courses are  NON-RESTRICTED:  March 4\, 25th\, April15\, 29\, May 13\, and June 24th. \nRESTRICTED:  March 26th\, and April 30th. \n8 am to approximately 6 pm at the Chase Legion.  You must register at shuswappalcourses@gmail.com \n Contact Leslie Koshynsky at shuswappalcourses@gmail.com or phone 250-299-6093.
URL:https://cdfgc.ca/event/pal-course-2/
LOCATION:Legion Basement\, 515 Shuswap Ave.\, Chase\, BC\, V0E 1M0\, Canada
CATEGORIES:Courses
ORGANIZER;CN="Leslie Koshynsky":MAILTO:shuswappalcourses@gmail.com
END:VEVENT
END:VCALENDAR