BEGIN:VCALENDAR
VERSION:2.0
PRODID:-//Chase and District Fish and Game Club - ECPv6.15.14//NONSGML v1.0//EN
CALSCALE:GREGORIAN
METHOD:PUBLISH
X-WR-CALNAME:Chase and District Fish and Game Club
X-ORIGINAL-URL:https://cdfgc.ca
X-WR-CALDESC:Events for Chase and District Fish and Game Club
REFRESH-INTERVAL;VALUE=DURATION:PT1H
X-Robots-Tag:noindex
X-PUBLISHED-TTL:PT1H
BEGIN:VTIMEZONE
TZID:UTC
BEGIN:STANDARD
TZOFFSETFROM:+0000
TZOFFSETTO:+0000
TZNAME:UTC
DTSTART:20250101T000000
END:STANDARD
END:VTIMEZONE
BEGIN:VEVENT
DTSTART;TZID=UTC:20260420T190000
DTEND;TZID=UTC:20260420T203000
DTSTAMP:20260421T042118
CREATED:20250420T185828Z
LAST-MODIFIED:20260420T190218Z
UID:4720-1776711600-1776717000@cdfgc.ca
SUMMARY:MONTHLY MEETING
DESCRIPTION:Chase and District Fish and Game Monthly meeting: TONIGHT!!! Monday April 20th @ 7:00 pm at the Creekside Seniors Centre in Chase. Important meeting…lots to discuss… \n\n1. range closure\,\n\n\n2. Spring Work Bee\, Saturday April 25th 10am\, 724 Turtle Valley road.\n\n\n3. Annual 3D Archery Shoot ay 2 & 3\, 724 Turtle Valley Road. So please\, I hope there is lots attendance on Monday to address these issues.
URL:https://cdfgc.ca/event/monthly-meeting/
LOCATION:Chase Creekside Seniors Organization\, 542 Shuswap Ave\, Chase\, BC V0E 1M0\, Canada\, 542 Shuswap Ave\, Chase\, British Columbia\, V0E 1M1\, Canada
CATEGORIES:General Meetings
END:VEVENT
END:VCALENDAR