BEGIN:VCALENDAR
VERSION:2.0
PRODID:-//Chase and District Fish and Game Club - ECPv6.15.14//NONSGML v1.0//EN
CALSCALE:GREGORIAN
METHOD:PUBLISH
X-ORIGINAL-URL:https://cdfgc.ca
X-WR-CALDESC:Events for Chase and District Fish and Game Club
REFRESH-INTERVAL;VALUE=DURATION:PT1H
X-Robots-Tag:noindex
X-PUBLISHED-TTL:PT1H
BEGIN:VTIMEZONE
TZID:UTC
BEGIN:STANDARD
TZOFFSETFROM:+0000
TZOFFSETTO:+0000
TZNAME:UTC
DTSTART:20220101T000000
END:STANDARD
END:VTIMEZONE
BEGIN:VEVENT
DTSTART;TZID=UTC:20260316T190000
DTEND;TZID=UTC:20260316T203000
DTSTAMP:20260423T102403
CREATED:20250316T214154Z
LAST-MODIFIED:20260212T214409Z
UID:4625-1773687600-1773693000@cdfgc.ca
SUMMARY:Monthly Meeting March 16th
DESCRIPTION:SAVE THE DATE!!!   Match 16th\, Monthly general Meeting is held at Creekside Senior Center at 7 pm.  Usually the 3rd Monday of the month except on Holiday Mondays. No meetings in Jult or August.  All members are welcome and requested to attend.  Hope to see you there.
URL:https://cdfgc.ca/event/monthly-meeting-at-creekside/
LOCATION:Chase Creekside Seniors Organization\, 542 Shuswap Ave\, Chase\, BC V0E 1M0\, Canada\, 542 Shuswap Ave\, Chase\, British Columbia\, V0E 1M1\, Canada
CATEGORIES:Monthly Meeting
END:VEVENT
BEGIN:VEVENT
DTSTART;TZID=UTC:20230320T190000
DTEND;TZID=UTC:20230320T203000
DTSTAMP:20260423T102403
CREATED:20200216T170820Z
LAST-MODIFIED:20230302T234406Z
UID:1631-1679338800-1679344200@cdfgc.ca
SUMMARY:Fish and Game Meeting 3rd Monday of the month 7pm
DESCRIPTION:Meetings are usually the 3rd Monday of the month unless they fall on a holiday. No meetings in July or August. Meetings take place a 7 pm at the Creekside Senior Center on Shuswap Ave. Chase BC. (across from the Legion). All members are welcome and encouraged to attend.!!
URL:https://cdfgc.ca/event/fish-and-game-meeting-7pm/
LOCATION:Chase Creekside Seniors Organization\, 542 Shuswap Ave\, Chase\, BC V0E 1M0\, Canada\, 542 Shuswap Ave\, Chase\, British Columbia\, V0E 1M1\, Canada
CATEGORIES:Monthly Meeting
END:VEVENT
END:VCALENDAR