BEGIN:VCALENDAR
VERSION:2.0
PRODID:-//Chase and District Fish and Game Club - ECPv6.15.14//NONSGML v1.0//EN
CALSCALE:GREGORIAN
METHOD:PUBLISH
X-WR-CALNAME:Chase and District Fish and Game Club
X-ORIGINAL-URL:https://cdfgc.ca
X-WR-CALDESC:Events for Chase and District Fish and Game Club
REFRESH-INTERVAL;VALUE=DURATION:PT1H
X-Robots-Tag:noindex
X-PUBLISHED-TTL:PT1H
BEGIN:VTIMEZONE
TZID:UTC
BEGIN:STANDARD
TZOFFSETFROM:+0000
TZOFFSETTO:+0000
TZNAME:UTC
DTSTART:20250101T000000
END:STANDARD
END:VTIMEZONE
BEGIN:VEVENT
DTSTART;TZID=UTC:20260321T100000
DTEND;TZID=UTC:20260321T120000
DTSTAMP:20260423T084132
CREATED:20250321T212808Z
LAST-MODIFIED:20260212T212839Z
UID:4623-1774087200-1774094400@cdfgc.ca
SUMMARY:PISTOL PRACTICE
DESCRIPTION:Pistol Practice Saturday\, March 21st at 10 am at the CDFGC range – 724 Turtle Valley Road. Come out and try your hand at pistol shooting. This is a very popular event so you need to reserve your spot. Call or Text Robbie Keizer (1-604-961-6369) or Jody Keizer (778-386-5464) for more information and to reserve a space. Ammunition\, pistols and targets are available for a fee if you do not have one and want to try one. Bring cash. Guests are welcome. $5 if you are a guest\, free for members. Guests will need to do a guest waiver and Robbie or Jodi will sign you in for the event if you are interested in trying this activity out. YOU DO NOT HAVE TO HAVE A PAL\, YOU WILL BE SUPERVISED AT ALL TIMES. A great way to be introduced to a sport you may want to try\, but have always wondered how. Dress for the weather. Bring your own drinks and snacks. Everyone must sign in at the sign in shed by the gate before entering the grounds – all participants and spectators.
URL:https://cdfgc.ca/event/pistol-practice/
LOCATION:724 Turtle Valley Road\, British Columbia\, Canada
CATEGORIES:Pistol
END:VEVENT
END:VCALENDAR