BEGIN:VCALENDAR
VERSION:2.0
PRODID:-//Chase and District Fish and Game Club - ECPv6.15.14//NONSGML v1.0//EN
CALSCALE:GREGORIAN
METHOD:PUBLISH
X-WR-CALNAME:Chase and District Fish and Game Club
X-ORIGINAL-URL:https://cdfgc.ca
X-WR-CALDESC:Events for Chase and District Fish and Game Club
REFRESH-INTERVAL;VALUE=DURATION:PT1H
X-Robots-Tag:noindex
X-PUBLISHED-TTL:PT1H
BEGIN:VTIMEZONE
TZID:UTC
BEGIN:STANDARD
TZOFFSETFROM:+0000
TZOFFSETTO:+0000
TZNAME:UTC
DTSTART:20250101T000000
END:STANDARD
END:VTIMEZONE
BEGIN:VEVENT
DTSTART;TZID=UTC:20260222T100000
DTEND;TZID=UTC:20260222T140000
DTSTAMP:20260423T102101
CREATED:20250222T014039Z
LAST-MODIFIED:20260212T005750Z
UID:4582-1771754400-1771768800@cdfgc.ca
SUMMARY:MONTHLY MEAT SHOOT
DESCRIPTION:Sunday February 22\, 2026 we will be holding the monthly Trap Meat Shoot. It was well attended last month with great meat prizes that were purchased from Chase Pharmachoice Fresh Market\, in Chase. Come out to participate\, open to everyone\, members and guests. $7 for each competition game played. Hot coffee\, snacks and hot lunch by donation. Hope to see you there. \n 
URL:https://cdfgc.ca/event/monthly-meat-shoot/
LOCATION:724 Turtle Valley Road\, British Columbia\, Canada
CATEGORIES:Trap & Skeet Shoot
END:VEVENT
END:VCALENDAR